BEGIN:VCALENDAR
VERSION:2.0
PRODID:-//InfoTegueste - ECPv6.15.20//NONSGML v1.0//EN
CALSCALE:GREGORIAN
METHOD:PUBLISH
X-ORIGINAL-URL:https://www.infotegueste.com
X-WR-CALDESC:Eventos para InfoTegueste
REFRESH-INTERVAL;VALUE=DURATION:PT1H
X-Robots-Tag:noindex
X-PUBLISHED-TTL:PT1H
BEGIN:VTIMEZONE
TZID:Europe/Madrid
BEGIN:DAYLIGHT
TZOFFSETFROM:+0100
TZOFFSETTO:+0200
TZNAME:CEST
DTSTART:20200329T010000
END:DAYLIGHT
BEGIN:STANDARD
TZOFFSETFROM:+0200
TZOFFSETTO:+0100
TZNAME:CET
DTSTART:20201025T010000
END:STANDARD
BEGIN:DAYLIGHT
TZOFFSETFROM:+0100
TZOFFSETTO:+0200
TZNAME:CEST
DTSTART:20210328T010000
END:DAYLIGHT
BEGIN:STANDARD
TZOFFSETFROM:+0200
TZOFFSETTO:+0100
TZNAME:CET
DTSTART:20211031T010000
END:STANDARD
BEGIN:DAYLIGHT
TZOFFSETFROM:+0100
TZOFFSETTO:+0200
TZNAME:CEST
DTSTART:20220327T010000
END:DAYLIGHT
BEGIN:STANDARD
TZOFFSETFROM:+0200
TZOFFSETTO:+0100
TZNAME:CET
DTSTART:20221030T010000
END:STANDARD
END:VTIMEZONE
BEGIN:VEVENT
DTSTART;TZID=Europe/Madrid:20210621T080000
DTEND;TZID=Europe/Madrid:20210702T170000
DTSTAMP:20260424T073959
CREATED:20210617T134655Z
LAST-MODIFIED:20210617T142208Z
UID:31637-1624262400-1625245200@www.infotegueste.com
SUMMARY:I Jornadas sobre el cuidado de la salud física y emocional
DESCRIPTION:
URL:https://www.infotegueste.com/evento/i-jornadas-sobre-el-cuidado-de-la-salud-fisica-y-emocional/
LOCATION:Centro Cultural El Lomo
CATEGORIES:Feria,Taller
ATTACH;FMTTYPE=image/jpeg:https://www.infotegueste.com/wp-content/uploads/2021/06/194384254_4030435300365761_6082728589588494773_n.jpg
END:VEVENT
BEGIN:VEVENT
DTSTART;TZID=Europe/Madrid:20210620T180000
DTEND;TZID=Europe/Madrid:20210621T190000
DTSTAMP:20260424T073959
CREATED:20210617T121037Z
LAST-MODIFIED:20210617T121512Z
UID:31619-1624212000-1624302000@www.infotegueste.com
SUMMARY:XIII Festival arte en la calle
DESCRIPTION:
URL:https://www.infotegueste.com/evento/feria-de-productos-sostenibles/
LOCATION:Teatro Príncipe Felipe\, C/ El Casino\, 7\, Tegueste\, Santa Cruz de Tenerife\, 38280\, España
CATEGORIES:Feria,Music
ATTACH;FMTTYPE=image/jpeg:https://www.infotegueste.com/wp-content/uploads/2021/06/190263165_548751056290287_6469162585463379311_n.jpg
END:VEVENT
BEGIN:VEVENT
DTSTART;TZID=Europe/Madrid:20210619T193000
DTEND;TZID=Europe/Madrid:20210619T203000
DTSTAMP:20260424T073959
CREATED:20210520T091943Z
LAST-MODIFIED:20210520T091943Z
UID:31496-1624131000-1624134600@www.infotegueste.com
SUMMARY:I Festival Internacional de Teatro Villa de Tegueste – Fest- Estival: Vida de artista
DESCRIPTION:
URL:https://www.infotegueste.com/evento/i-festival-internacional-de-teatro-villa-de-tegueste-fest-estival-vida-de-artista/
LOCATION:Teatro Príncipe Felipe\, C/ El Casino\, 7\, Tegueste\, Santa Cruz de Tenerife\, 38280\, España
CATEGORIES:Teatro
ATTACH;FMTTYPE=image/jpeg:https://www.infotegueste.com/wp-content/uploads/2021/05/FestivEstArtista.jpg
ORGANIZER;CN="Zalatta Teatro":MAILTO:info@zalattateatro.com
END:VEVENT
BEGIN:VEVENT
DTSTART;TZID=Europe/Madrid:20210619T080000
DTEND;TZID=Europe/Madrid:20210620T140000
DTSTAMP:20260424T073959
CREATED:20210617T121802Z
LAST-MODIFIED:20210617T121802Z
UID:31626-1624089600-1624197600@www.infotegueste.com
SUMMARY:Feria de productos sostenibles
DESCRIPTION:
URL:https://www.infotegueste.com/evento/feria-de-productos-sostenibles-2/
LOCATION:Mercado del Agricultor y Artesano de Tegueste\, Asuncionistas\, 6\, TEGUESTE\, Tenerife\, 38280\, España
CATEGORIES:Feria
ATTACH;FMTTYPE=image/jpeg:https://www.infotegueste.com/wp-content/uploads/2021/06/201489290_1824019414437545_14913439657761669_n.jpg
ORGANIZER;CN="Ayuntamiento de Tegueste":MAILTO:ayuntamiento@tegueste.org
END:VEVENT
BEGIN:VEVENT
DTSTART;TZID=Europe/Madrid:20210617T193000
DTEND;TZID=Europe/Madrid:20210617T210000
DTSTAMP:20260424T073959
CREATED:20210520T095356Z
LAST-MODIFIED:20210520T095356Z
UID:31500-1623958200-1623963600@www.infotegueste.com
SUMMARY:I Festival Internacional de Teatro Villa de Tegueste – Fest- Estival: Hot
DESCRIPTION:
URL:https://www.infotegueste.com/evento/i-festival-internacional-de-teatro-villa-de-tegueste-fest-estival-hot/
LOCATION:Teatro Príncipe Felipe\, C/ El Casino\, 7\, Tegueste\, Santa Cruz de Tenerife\, 38280\, España
CATEGORIES:Teatro
ATTACH;FMTTYPE=image/jpeg:https://www.infotegueste.com/wp-content/uploads/2021/05/FestivEstHot.jpg
ORGANIZER;CN="Zalatta Teatro":MAILTO:info@zalattateatro.com
END:VEVENT
BEGIN:VEVENT
DTSTART;TZID=Europe/Madrid:20210613T120000
DTEND;TZID=Europe/Madrid:20210613T130000
DTSTAMP:20260424T073959
CREATED:20210520T101556Z
LAST-MODIFIED:20210520T101619Z
UID:31507-1623585600-1623589200@www.infotegueste.com
SUMMARY:I Festival Internacional de Teatro Villa de Tegueste – Fest- Estival: La Musa Pelusa en busca de escritor
DESCRIPTION:
URL:https://www.infotegueste.com/evento/i-festival-internacional-de-teatro-villa-de-tegueste-fest-estival-la-musa-pelusa-en-busca-de-escritor-2/
LOCATION:Centro Cultural El Socorro\, C/ Los Cipreses\, TEGUESTE\, Tenerife\, 38280\, España
CATEGORIES:Teatro
ATTACH;FMTTYPE=image/jpeg:https://www.infotegueste.com/wp-content/uploads/2021/05/FestivEstMusa2.jpg
ORGANIZER;CN="Zalatta Teatro":MAILTO:info@zalattateatro.com
END:VEVENT
BEGIN:VEVENT
DTSTART;TZID=Europe/Madrid:20210612T200000
DTEND;TZID=Europe/Madrid:20210612T210000
DTSTAMP:20260424T073959
CREATED:20210520T114443Z
LAST-MODIFIED:20210520T114443Z
UID:31522-1623528000-1623531600@www.infotegueste.com
SUMMARY:Concierto Tributo a The Beatles
DESCRIPTION:Entradas en Tomaticket. es y Búho Club en La Laguna.
URL:https://www.infotegueste.com/evento/concierto-tributo-a-the-beatles/
LOCATION:Teatro Príncipe Felipe\, C/ El Casino\, 7\, Tegueste\, Santa Cruz de Tenerife\, 38280\, España
CATEGORIES:Concierto
ATTACH;FMTTYPE=image/jpeg:https://www.infotegueste.com/wp-content/uploads/2021/05/2767871.jpeg
ORGANIZER;CN="Ayuntamiento de Tegueste":MAILTO:ayuntamiento@tegueste.org
END:VEVENT
BEGIN:VEVENT
DTSTART;TZID=Europe/Madrid:20210611T193000
DTEND;TZID=Europe/Madrid:20210611T210000
DTSTAMP:20260424T073959
CREATED:20210520T094758Z
LAST-MODIFIED:20210520T094758Z
UID:31498-1623439800-1623445200@www.infotegueste.com
SUMMARY:I Festival Internacional de Teatro Villa de Tegueste – Fest- Estival: Artium
DESCRIPTION:
URL:https://www.infotegueste.com/evento/i-festival-internacional-de-teatro-villa-de-tegueste-fest-estival-artium/
LOCATION:Teatro Príncipe Felipe\, C/ El Casino\, 7\, Tegueste\, Santa Cruz de Tenerife\, 38280\, España
CATEGORIES:Teatro
ATTACH;FMTTYPE=image/jpeg:https://www.infotegueste.com/wp-content/uploads/2021/05/FestivEstArtium.jpg
ORGANIZER;CN="Zalatta Teatro":MAILTO:info@zalattateatro.com
END:VEVENT
BEGIN:VEVENT
DTSTART;TZID=Europe/Madrid:20210606T190000
DTEND;TZID=Europe/Madrid:20210606T200000
DTSTAMP:20260424T073959
CREATED:20210520T102214Z
LAST-MODIFIED:20210520T115150Z
UID:31513-1623006000-1623009600@www.infotegueste.com
SUMMARY:I Festival Internacional de Teatro Villa de Tegueste – Fest- Estival: Why Not? 2.0
DESCRIPTION:WHY NOT? Es el espectáculo del joven mago Samuel Moreno\, semifinalista de GOT TALENT España 2018\, espectáculo que promete diversión y asombro en un show donde la participación del público es fundamental\, ya que colaborarán con él en el escenario y tendrán la oportunidad de presenciar la magia en primera persona. \nWhy not? es un espectáculo de magia familiar que une la magia\, la música\, la tecnología y el humor\, que te dejarán boquiabierto \nUn espectáculo cien por cien interactivo\, donde grandes y pequeños lo pasarán en grande. \nTras su paso por el OFF de la Latina en Madrid\, durante 1 temporada entera y convirtiéndose en uno de los espectáculos de magia mejor valorados de Madrid\, llega por primera vez a Tenerife
URL:https://www.infotegueste.com/evento/i-festival-internacional-de-teatro-villa-de-tegueste-fest-estival-why-not-2-0/
LOCATION:Teatro Príncipe Felipe\, C/ El Casino\, 7\, Tegueste\, Santa Cruz de Tenerife\, 38280\, España
CATEGORIES:magia
ATTACH;FMTTYPE=image/jpeg:https://www.infotegueste.com/wp-content/uploads/2021/05/2767884.jpeg
ORGANIZER;CN="Zalatta Teatro":MAILTO:info@zalattateatro.com
END:VEVENT
BEGIN:VEVENT
DTSTART;TZID=Europe/Madrid:20210606T120000
DTEND;TZID=Europe/Madrid:20210606T130000
DTSTAMP:20260424T073959
CREATED:20210520T091429Z
LAST-MODIFIED:20210520T102330Z
UID:31492-1622980800-1622984400@www.infotegueste.com
SUMMARY:I Festival Internacional de Teatro Villa de Tegueste – Fest- Estival: La Musa Pelusa en busca de escritor
DESCRIPTION:
URL:https://www.infotegueste.com/evento/i-festival-internacional-de-teatro-villa-de-tegueste-fest-estival-la-musa-pelusa-en-busca-de-escritor/
LOCATION:Centro Cultural de El Portezuelo\, Carretera El Portezuelo - Las Toscas nº 269\, Tegueste
CATEGORIES:Teatro
ATTACH;FMTTYPE=image/jpeg:https://www.infotegueste.com/wp-content/uploads/2021/05/FestivaEstMusa1.jpg
ORGANIZER;CN="Zalatta Teatro":MAILTO:info@zalattateatro.com
END:VEVENT
BEGIN:VEVENT
DTSTART;TZID=Europe/Madrid:20210529T170000
DTEND;TZID=Europe/Madrid:20210529T180000
DTSTAMP:20260424T073959
CREATED:20210506T101356Z
LAST-MODIFIED:20210506T101356Z
UID:31354-1622307600-1622311200@www.infotegueste.com
SUMMARY:Planeta Komba
DESCRIPTION:
URL:https://www.infotegueste.com/evento/planeta-komba/
LOCATION:Teatro Príncipe Felipe\, C/ El Casino\, 7\, Tegueste\, Santa Cruz de Tenerife\, 38280\, España
CATEGORIES:Concierto
ATTACH;FMTTYPE=image/jpeg:https://www.infotegueste.com/wp-content/uploads/2021/05/CARTEL-PLANETA-KOMBA-29-MAYO-DEF..jpg
ORGANIZER;CN="Ayuntamiento de Tegueste":MAILTO:ayuntamiento@tegueste.org
END:VEVENT
BEGIN:VEVENT
DTSTART;TZID=Europe/Madrid:20210528T193000
DTEND;TZID=Europe/Madrid:20210528T193000
DTSTAMP:20260424T073959
CREATED:20210506T102206Z
LAST-MODIFIED:20210506T102206Z
UID:31363-1622230200-1622230200@www.infotegueste.com
SUMMARY:Concierto Cuatro Cuartetos
DESCRIPTION:
URL:https://www.infotegueste.com/evento/concierto-cuatro-cuartetos/
LOCATION:Teatro Príncipe Felipe\, C/ El Casino\, 7\, Tegueste\, Santa Cruz de Tenerife\, 38280\, España
CATEGORIES:Concierto
ATTACH;FMTTYPE=image/jpeg:https://www.infotegueste.com/wp-content/uploads/2021/05/CONCIERTO-28-mayo.jpg
ORGANIZER;CN="Ayuntamiento de Tegueste":MAILTO:ayuntamiento@tegueste.org
END:VEVENT
BEGIN:VEVENT
DTSTART;TZID=Europe/Madrid:20210527T183000
DTEND;TZID=Europe/Madrid:20210527T200000
DTSTAMP:20260424T073959
CREATED:20210520T102815Z
LAST-MODIFIED:20210520T102815Z
UID:31516-1622140200-1622145600@www.infotegueste.com
SUMMARY:VIII Encuentro de Lectura: Tegueste-Lee
DESCRIPTION:Con la obra «Cara de pan» de Sara Mesa. \nLa relación entre una adolescente y un hombre maduro que se encuentran en un parque. Una historia elusiva\, obsesiva\, inquietante y hasta incómoda\, pero al mismo tiempo extrañamente magnética\, en la que palpitan el tabú\, el miedo al salto al vacío de la vida adulta y la dificultad de ajustarse a las convenciones sociales. \n 
URL:https://www.infotegueste.com/evento/viii-encuentro-de-lectura-tegueste-lee/
LOCATION:Teatro Príncipe Felipe\, C/ El Casino\, 7\, Tegueste\, Santa Cruz de Tenerife\, 38280\, España
CATEGORIES:Encuentro Lectura
ATTACH;FMTTYPE=image/jpeg:https://www.infotegueste.com/wp-content/uploads/2021/05/xthumb_20897_portadas_big.jpeg.pagespeed.ic_.-VTIY2A98Y.jpg
END:VEVENT
BEGIN:VEVENT
DTSTART;TZID=Europe/Madrid:20210522T180000
DTEND;TZID=Europe/Madrid:20210522T190000
DTSTAMP:20260424T073959
CREATED:20210506T101132Z
LAST-MODIFIED:20210506T101132Z
UID:31351-1621706400-1621710000@www.infotegueste.com
SUMMARY:Concierto Kids Rocks History
DESCRIPTION:
URL:https://www.infotegueste.com/evento/concierto-kids-rocks-history/
LOCATION:Teatro Príncipe Felipe\, C/ El Casino\, 7\, Tegueste\, Santa Cruz de Tenerife\, 38280\, España
CATEGORIES:Concierto
ATTACH;FMTTYPE=image/jpeg:https://www.infotegueste.com/wp-content/uploads/2021/05/CARTEL-KIDS-ROCK-HISTORY-22-MAYO.jpeg
ORGANIZER;CN="Ayuntamiento de Tegueste":MAILTO:ayuntamiento@tegueste.org
END:VEVENT
BEGIN:VEVENT
DTSTART;TZID=Europe/Madrid:20210515T200000
DTEND;TZID=Europe/Madrid:20210515T210000
DTSTAMP:20260424T073959
CREATED:20210506T102439Z
LAST-MODIFIED:20210506T102439Z
UID:31366-1621108800-1621112400@www.infotegueste.com
SUMMARY:Concierto Tributo a Héroes del Silencio
DESCRIPTION:
URL:https://www.infotegueste.com/evento/concierto-tributo-a-heroes-del-silencio/
LOCATION:Teatro Príncipe Felipe\, C/ El Casino\, 7\, Tegueste\, Santa Cruz de Tenerife\, 38280\, España
CATEGORIES:Concierto
ATTACH;FMTTYPE=image/jpeg:https://www.infotegueste.com/wp-content/uploads/2021/05/CONCIERTO-TRIBUTOS-15-MAYO.jpeg
ORGANIZER;CN="Ayuntamiento de Tegueste":MAILTO:ayuntamiento@tegueste.org
END:VEVENT
BEGIN:VEVENT
DTSTART;TZID=Europe/Madrid:20210514T193000
DTEND;TZID=Europe/Madrid:20210514T210000
DTSTAMP:20260424T073959
CREATED:20210506T101921Z
LAST-MODIFIED:20210506T101935Z
UID:31360-1621020600-1621026000@www.infotegueste.com
SUMMARY:Concierto de flauta con Elisa Bartolomé
DESCRIPTION:
URL:https://www.infotegueste.com/evento/concierto-de-flauta-con-elisa-bartolome/
LOCATION:Teatro Príncipe Felipe\, C/ El Casino\, 7\, Tegueste\, Santa Cruz de Tenerife\, 38280\, España
ATTACH;FMTTYPE=image/jpeg:https://www.infotegueste.com/wp-content/uploads/2021/05/CARTEL-DEF.-ELISA-BARTOLOME-14-mayo.jpg
ORGANIZER;CN="Ayuntamiento de Tegueste":MAILTO:ayuntamiento@tegueste.org
END:VEVENT
BEGIN:VEVENT
DTSTART;TZID=Europe/Madrid:20210513T080000
DTEND;TZID=Europe/Madrid:20210514T170000
DTSTAMP:20260424T073959
CREATED:20210506T094949Z
LAST-MODIFIED:20210506T094949Z
UID:31349-1620892800-1621011600@www.infotegueste.com
SUMMARY:V Feria de Educación on-line
DESCRIPTION:La V Feria de Educación brindará espacios de encuentro para debatir\, reflexionar  y  compartir experiencias tanto en los portales web de los propios centros educativos y otros recursos participantes\, y en las redes sociales del Ayuntamiento de Tegueste. \n 
URL:https://www.infotegueste.com/evento/v-feria-de-educacion-on-line/
LOCATION:Santa Cruz de Tenerife
CATEGORIES:Educación,Feria
ATTACH;FMTTYPE=image/png:https://www.infotegueste.com/wp-content/uploads/2021/05/descarga-3.png
ORGANIZER;CN="Ayuntamiento de Tegueste":MAILTO:ayuntamiento@tegueste.org
END:VEVENT
BEGIN:VEVENT
DTSTART;TZID=Europe/Madrid:20210510T080000
DTEND;TZID=Europe/Madrid:20210604T170000
DTSTAMP:20260424T073959
CREATED:20210506T103606Z
LAST-MODIFIED:20210506T103606Z
UID:31373-1620633600-1622826000@www.infotegueste.com
SUMMARY:Danza en comunidad
DESCRIPTION:
URL:https://www.infotegueste.com/evento/danza-en-comunidad/
LOCATION:Centro Cultural de El Portezuelo\, Carretera El Portezuelo - Las Toscas nº 269\, Tegueste
CATEGORIES:Danza,Taller
ATTACH;FMTTYPE=image/jpeg:https://www.infotegueste.com/wp-content/uploads/2021/05/178916252_3914506978625261_3133726289784784721_n.jpg
END:VEVENT
BEGIN:VEVENT
DTSTART;TZID=Europe/Madrid:20210508T090000
DTEND;TZID=Europe/Madrid:20210508T130000
DTSTAMP:20260424T073959
CREATED:20210415T113858Z
LAST-MODIFIED:20210415T114355Z
UID:31256-1620464400-1620478800@www.infotegueste.com
SUMMARY:Ruta: «Pedro Álvarez a dos pasos del Monte»
DESCRIPTION:Ruta que nos invita a disfrutar del bosque de Laurisilva en su máximo esplendor. Una joya de Tegueste que realmente se reconoce cuando se camina con tranquilidad y se aprecia el gran valor que contiene esta especial masa arbórea. A lo largo del recorrido trataremos muchos temas en relación con este entorno tales como: la vegetación predominante\, geografía física\, usos tradicionales del monte\, las gangocheras y sus costumbres y un largo etcétera siempre en relación con el mismo. Se camina por senderos sinuosos y antiguas vías de comunicación pre-existentes entre Anaga y el municipio de Tegueste. \n 
URL:https://www.infotegueste.com/evento/ruta-pedro-alvarez-a-dos-pasos-del-monte/
LOCATION:Plaza de San Marcos. Tegueste\, Plaza de san Marcos\, Tegueste\, Tenerife\, 38280\, España
CATEGORIES:Ruta
ATTACH;FMTTYPE=image/png:https://www.infotegueste.com/wp-content/uploads/2021/04/descarga.png
ORGANIZER;CN="Oficina de Turismo de Tegueste":MAILTO:turismo@tegueste.org
END:VEVENT
BEGIN:VEVENT
DTSTART;TZID=Europe/Madrid:20210507T193000
DTEND;TZID=Europe/Madrid:20210507T210000
DTSTAMP:20260424T073959
CREATED:20210506T101654Z
LAST-MODIFIED:20210506T101654Z
UID:31357-1620415800-1620421200@www.infotegueste.com
SUMMARY:Concierto Quinteto Música Moderna CSMC
DESCRIPTION:
URL:https://www.infotegueste.com/evento/concierto-quinteto-musica-moderna-csmc/
LOCATION:Teatro Príncipe Felipe\, C/ El Casino\, 7\, Tegueste\, Santa Cruz de Tenerife\, 38280\, España
CATEGORIES:Concierto
ATTACH;FMTTYPE=image/jpeg:https://www.infotegueste.com/wp-content/uploads/2021/05/Cartel-Concierto-7-mayo-Quinteto-Music-Moderna-CSMC-.jpg
ORGANIZER;CN="Ayuntamiento de Tegueste":MAILTO:ayuntamiento@tegueste.org
END:VEVENT
BEGIN:VEVENT
DTSTART;TZID=Europe/Madrid:20210507T090000
DTEND;TZID=Europe/Madrid:20210507T220000
DTSTAMP:20260424T073959
CREATED:20210506T102921Z
LAST-MODIFIED:20210506T102921Z
UID:31370-1620378000-1620424800@www.infotegueste.com
SUMMARY:Taller de poda en verde y deshojado de la viña
DESCRIPTION:
URL:https://www.infotegueste.com/evento/taller-de-poda-en-verde-y-deshojado-de-la-vina/
LOCATION:Finca Los Zamorano\, Tegueste\, tegueste\, Santa Cruz de Tenerife\, 38280\, España
CATEGORIES:Taller
ATTACH;FMTTYPE=image/jpeg:https://www.infotegueste.com/wp-content/uploads/2021/05/182800211_3438855396217236_4037146394989755606_n.jpg
ORGANIZER;CN="AVITE":MAILTO:aviteg@gmail.com
END:VEVENT
BEGIN:VEVENT
DTSTART;TZID=Europe/Madrid:20210506T080000
DTEND;TZID=Europe/Madrid:20210506T170000
DTSTAMP:20260424T073959
CREATED:20210506T104217Z
LAST-MODIFIED:20210506T104217Z
UID:31377-1620288000-1620320400@www.infotegueste.com
SUMMARY:XXI Concurso de fotografía IES Tegueste 2021
DESCRIPTION:
URL:https://www.infotegueste.com/evento/xxi-concurso-de-fotografia-ies-tegueste-2021/
LOCATION:IES Tegueste
CATEGORIES:Certamen
ATTACH;FMTTYPE=image/jpeg:https://www.infotegueste.com/wp-content/uploads/2021/05/confotcartel_2020_2021-724x1024-1.jpg
ORGANIZER;CN="IES Tegueste":MAILTO:38011777@gobiernodecanarias.org
END:VEVENT
BEGIN:VEVENT
DTSTART;TZID=Europe/Madrid:20210430T180000
DTEND;TZID=Europe/Madrid:20210430T200000
DTSTAMP:20260424T073959
CREATED:20210415T112154Z
LAST-MODIFIED:20210415T112154Z
UID:31242-1619805600-1619812800@www.infotegueste.com
SUMMARY:Taller de cerámica
DESCRIPTION:Dos sesiones del taller de cerámica de grabado en botánica. \nPrecio: 50 €/ 2 sesiones\, incluido materiales y cocciones \nInformación e inscripciones: 650 264 052 \nPlazas limitadas
URL:https://www.infotegueste.com/evento/taller-de-ceramica-2/
LOCATION:Asociación Waldorf El Lucero\, C/ Las Palmeras Nº 21\, El Portezuelo\, TEGUESTE\, Tenerife\, 38292\, Spain
CATEGORIES:Taller
ATTACH;FMTTYPE=image/jpeg:https://www.infotegueste.com/wp-content/uploads/2021/04/173125125_3872196002856359_8758612751498634676_n.jpg
ORGANIZER;CN="Asociaci%C3%B3n Waldorf El Lucero":MAILTO:asociacionwaldorf@ellucero.es
END:VEVENT
BEGIN:VEVENT
DTSTART;TZID=Europe/Madrid:20210429T183000
DTEND;TZID=Europe/Madrid:20210429T200000
DTSTAMP:20260424T073959
CREATED:20210409T102018Z
LAST-MODIFIED:20210409T102018Z
UID:31176-1619721000-1619726400@www.infotegueste.com
SUMMARY:VII Encuentro Lectura "Tegueste lee"
DESCRIPTION:Con la propuesta narrativa «Luna de lobos» de Julio Llamazares. \nSinopsis: Ramiro\, Gildo y Ángel\, tres soldados republicanos de León\, huyen en plena noche de las represalias del frente victorioso que ha ocupado su tierra. \n 
URL:https://www.infotegueste.com/evento/vii-encuentro-lectura-tegueste-lee/
LOCATION:Teatro Príncipe Felipe\, C/ El Casino\, 7\, Tegueste\, Santa Cruz de Tenerife\, 38280\, España
CATEGORIES:Encuentro Lectura
ATTACH;FMTTYPE=image/jpeg:https://www.infotegueste.com/wp-content/uploads/2021/04/168950372_3847286642013962_8756905836157762551_n.jpg
END:VEVENT
BEGIN:VEVENT
DTSTART;TZID=Europe/Madrid:20210425T093000
DTEND;TZID=Europe/Madrid:20210425T133000
DTSTAMP:20260424T073959
CREATED:20210415T113545Z
LAST-MODIFIED:20210415T113558Z
UID:31254-1619343000-1619357400@www.infotegueste.com
SUMMARY:Senderos con...Mitología
DESCRIPTION:Este sendero forma parte del Programa Senderos con… Cultura\, donde cada domingo explorarán la isla de Tenerife de una forma diferente\, a través de algunos de los aspectos culturales más destacados del archipiélago canario. \n  \n 
URL:https://www.infotegueste.com/evento/senderos-con-mitologia-2/
LOCATION:Plaza de San Marcos. Tegueste\, Plaza de san Marcos\, Tegueste\, Tenerife\, 38280\, España
ATTACH;FMTTYPE=image/jpeg:https://www.infotegueste.com/wp-content/uploads/2021/04/Carteleria-Senderismo-Cultural.jpg
END:VEVENT
BEGIN:VEVENT
DTSTART;TZID=Europe/Madrid:20210424T100000
DTEND;TZID=Europe/Madrid:20210424T150000
DTSTAMP:20260424T073959
CREATED:20210409T100014Z
LAST-MODIFIED:20210409T100014Z
UID:31162-1619258400-1619276400@www.infotegueste.com
SUMMARY:Ruta: Un paseo por la historia de Tegueste
DESCRIPTION:Ruta combinada con Zalatta Teatro\, donde pretendemos recrear algunos aspectos de la vida del municipio\, entre los S.XVI y XIX.\nEn la casa los Zamoranos aparecerá la figura de Juan El Medianero. Pasearemos por la finca hacia los Laureles\, para dirigirnos a la casa de los barones de Chausserieu\, contar su historia y asistir a una recreación de la boda de una de las nietas del barón\, realizada en la ermita de la Placeta.\nSeguiremos hasta el Llano y allí aparecerán nuevos personajes como Marina Fernández de Vera y Juan de Almansa\, junto con Don Juan de Tegueste\, descendiente del antiguo Mencey. Continuamos hacia la casa de la Audiencia y la plaza de San Marcos donde el personaje del Alcalde\, cerrará la ruta ofertando una degustación de vino de la zona\, en el patio de casa del Prebendado. \n 
URL:https://www.infotegueste.com/evento/ruta-un-paseo-por-la-historia-de-tegueste/
LOCATION:Plaza de San Marcos. Tegueste\, Plaza de san Marcos\, Tegueste\, Tenerife\, 38280\, España
ATTACH;FMTTYPE=image/jpeg:https://www.infotegueste.com/wp-content/uploads/2021/04/ruta-teatralizada.jpg
ORGANIZER;CN="Oficina de Turismo de Tegueste":MAILTO:turismo@tegueste.org
END:VEVENT
BEGIN:VEVENT
DTSTART;TZID=Europe/Madrid:20210424T080000
DTEND;TZID=Europe/Madrid:20210425T170000
DTSTAMP:20260424T073959
CREATED:20210409T101212Z
LAST-MODIFIED:20210409T101212Z
UID:31168-1619251200-1619370000@www.infotegueste.com
SUMMARY:Romería en honor a San Marcos desde los balcones
DESCRIPTION:Ante la imposibilidad de celebrar esta fiesta por la COVID-19 se propone estos eventos: \nSÁBADO 24 DE ABRIL \nde 10:00 a 18:00 Ofrenda a San Marcos \n19:00 Función religiosa \n  \nDOMINGO 25 DE ABRIL \n12:00 Misa a San Marcos (presencial y streming) \n14:00 Brindis Romería en los balcones \n  \n 
URL:https://www.infotegueste.com/evento/romeria-en-honor-a-san-marcos-desde-los-balcones/
LOCATION:Iglesia de san Marcos Evangelista\, Plaza de San Marcos\, Tegueste\, SANTA CRUZ DE TENERIFE\, 38280\, España
CATEGORIES:Misa,Romería
ATTACH;FMTTYPE=image/jpeg:https://www.infotegueste.com/wp-content/uploads/2021/04/170277410_3857170837692209_155814521335768048_n.jpg
ORGANIZER;CN="parroquia de san Marcos":MAILTO:parroquiategueste@gmail.com
END:VEVENT
BEGIN:VEVENT
DTSTART;TZID=Europe/Madrid:20210423T200000
DTEND;TZID=Europe/Madrid:20210423T210000
DTSTAMP:20260424T073959
CREATED:20210415T113041Z
LAST-MODIFIED:20210415T113041Z
UID:31248-1619208000-1619211600@www.infotegueste.com
SUMMARY:Certamen ‘Distinción a los Vinos de Tegueste’
DESCRIPTION:Nueva edición del certamen ‘Distinción a los Vinos de Tegueste’ con el que se reconocerá a los vinos del municipio de la cosecha del pasado año. \n– La recogida de muestras de los vinos se realizará en las propias bodegas los días 19\, 20 y 21 de abril. \n– La cata se celebrará el jueves 22 de abril por un panel de expertos cualificados y de dilatada experiencia que utilizarán la ficha de cata oficial de la Organización Internacional de la Vid y del Vino\, adaptada a la tipicidad de los vinos canarios. \n– El acto de entrega de distinciones tendrá lugar el viernes 23 de abril\, en el Teatro Príncipe Felipe. \nRetransmisión en directo a través del Facebook del Ayto. de Tegueste y de InfoTegueste.
URL:https://www.infotegueste.com/evento/certamen-distincion-a-los-vinos-de-tegueste/
LOCATION:Teatro Príncipe Felipe\, C/ El Casino\, 7\, Tegueste\, Santa Cruz de Tenerife\, 38280\, España
CATEGORIES:Certamen
ATTACH;FMTTYPE=image/jpeg:https://www.infotegueste.com/wp-content/uploads/2021/04/3e35544a-ca95-4569-a2c3-af4d617e42d0-1.jpg
ORGANIZER;CN="AVITE":MAILTO:aviteg@gmail.com
END:VEVENT
BEGIN:VEVENT
DTSTART;TZID=Europe/Madrid:20210422T193000
DTEND;TZID=Europe/Madrid:20210422T210000
DTSTAMP:20260424T073959
CREATED:20210421T113911Z
LAST-MODIFIED:20210421T113911Z
UID:31278-1619119800-1619125200@www.infotegueste.com
SUMMARY:Acto del Día del Libro
DESCRIPTION:Acto que contará con la presentación de la obra Danza y Barcos de la Villa de Tegueste\, del historiador e investigador de la ULL Luana Studer\, incluye\, además\, la entrega de premios a la lectura y la actuación musical del grupo ‘Five Credits’. \n 
URL:https://www.infotegueste.com/evento/acto-del-dia-del-libro/
LOCATION:Teatro Príncipe Felipe\, C/ El Casino\, 7\, Tegueste\, Santa Cruz de Tenerife\, 38280\, España
CATEGORIES:Acto
ATTACH;FMTTYPE=image/jpeg:https://www.infotegueste.com/wp-content/uploads/2021/04/dia-del-libro-en-tegueste.jpeg
ORGANIZER;CN="Ayuntamiento de Tegueste":MAILTO:ayuntamiento@tegueste.org
END:VEVENT
BEGIN:VEVENT
DTSTART;TZID=Europe/Madrid:20210421T170000
DTEND;TZID=Europe/Madrid:20210502T220000
DTSTAMP:20260424T073959
CREATED:20210415T112720Z
LAST-MODIFIED:20210415T112720Z
UID:31246-1619024400-1619992800@www.infotegueste.com
SUMMARY:Exposición homenaje a la Romería
DESCRIPTION:Representación\, a tamaño real\, del recorrido de la romería. Esta contará con sonido e iluminación para recrear los 15 pasos que se mostrarán\, dedicados a la danza de las flores\, la danza herreña\, los barcos de Tegueste\, las carretas\, el ganado y los grupos folclóricos\, entre otros elementos típicos de esta conocida romería popular. \n 
URL:https://www.infotegueste.com/evento/exposicion-homenaje-a-la-romeria/
LOCATION:Plaza de San Marcos. Tegueste\, Plaza de san Marcos\, Tegueste\, Tenerife\, 38280\, España
CATEGORIES:Exposición
ATTACH;FMTTYPE=image/jpeg:https://www.infotegueste.com/wp-content/uploads/2021/04/174220399_3875087325900560_6834134631817178645_n.jpg
ORGANIZER;CN="Ayuntamiento de Tegueste":MAILTO:ayuntamiento@tegueste.org
END:VEVENT
END:VCALENDAR