BEGIN:VCALENDAR
VERSION:2.0
PRODID:-//InfoTegueste - ECPv6.15.20//NONSGML v1.0//EN
CALSCALE:GREGORIAN
METHOD:PUBLISH
X-WR-CALNAME:InfoTegueste
X-ORIGINAL-URL:https://www.infotegueste.com
X-WR-CALDESC:Eventos para InfoTegueste
REFRESH-INTERVAL;VALUE=DURATION:PT1H
X-Robots-Tag:noindex
X-PUBLISHED-TTL:PT1H
BEGIN:VTIMEZONE
TZID:UTC
BEGIN:STANDARD
TZOFFSETFROM:+0000
TZOFFSETTO:+0000
TZNAME:UTC
DTSTART:20210101T000000
END:STANDARD
END:VTIMEZONE
BEGIN:VTIMEZONE
TZID:Europe/Madrid
BEGIN:DAYLIGHT
TZOFFSETFROM:+0100
TZOFFSETTO:+0200
TZNAME:CEST
DTSTART:20200329T010000
END:DAYLIGHT
BEGIN:STANDARD
TZOFFSETFROM:+0200
TZOFFSETTO:+0100
TZNAME:CET
DTSTART:20201025T010000
END:STANDARD
BEGIN:DAYLIGHT
TZOFFSETFROM:+0100
TZOFFSETTO:+0200
TZNAME:CEST
DTSTART:20210328T010000
END:DAYLIGHT
BEGIN:STANDARD
TZOFFSETFROM:+0200
TZOFFSETTO:+0100
TZNAME:CET
DTSTART:20211031T010000
END:STANDARD
BEGIN:DAYLIGHT
TZOFFSETFROM:+0100
TZOFFSETTO:+0200
TZNAME:CEST
DTSTART:20220327T010000
END:DAYLIGHT
BEGIN:STANDARD
TZOFFSETFROM:+0200
TZOFFSETTO:+0100
TZNAME:CET
DTSTART:20221030T010000
END:STANDARD
BEGIN:DAYLIGHT
TZOFFSETFROM:+0100
TZOFFSETTO:+0200
TZNAME:CEST
DTSTART:20230326T010000
END:DAYLIGHT
BEGIN:STANDARD
TZOFFSETFROM:+0200
TZOFFSETTO:+0100
TZNAME:CET
DTSTART:20231029T010000
END:STANDARD
END:VTIMEZONE
BEGIN:VEVENT
DTSTART;TZID=UTC:20220331T190000
DTEND;TZID=UTC:20220331T203000
DTSTAMP:20260423T205918
CREATED:20220331T165143Z
LAST-MODIFIED:20220331T165143Z
UID:32760-1648753200-1648758600@www.infotegueste.com
SUMMARY:Presentación y Conferencia
DESCRIPTION:
URL:https://www.infotegueste.com/evento/presentacion-y-conferencia/
LOCATION:Tenerife
CATEGORIES:Deportes,Encuentro
ATTACH;FMTTYPE=image/jpeg:https://www.infotegueste.com/wp-content/uploads/2022/03/277296340_4946696175406331_8891278810302957963_n.jpg
END:VEVENT
BEGIN:VEVENT
DTSTART;TZID=UTC:20220331T190000
DTEND;TZID=UTC:20220331T200000
DTSTAMP:20260423T205918
CREATED:20220331T165330Z
LAST-MODIFIED:20220331T165330Z
UID:32763-1648753200-1648756800@www.infotegueste.com
SUMMARY:
DESCRIPTION:Charla
URL:https://www.infotegueste.com/evento/32763/
LOCATION:Tenerife
CATEGORIES:Charla
ATTACH;FMTTYPE=image/jpeg:https://www.infotegueste.com/wp-content/uploads/2022/03/277366728_4962878953788053_7436894634320358791_n.jpg
END:VEVENT
BEGIN:VEVENT
DTSTART;TZID=UTC:20220331T183000
DTEND;TZID=UTC:20220331T203000
DTSTAMP:20260423T205918
CREATED:20220331T165521Z
LAST-MODIFIED:20220331T165521Z
UID:32766-1648751400-1648758600@www.infotegueste.com
SUMMARY:Encuentro Club de lectura
DESCRIPTION:
URL:https://www.infotegueste.com/evento/encuentro-club-de-lectura/
LOCATION:Tenerife
CATEGORIES:Encuentro Lectura
ATTACH;FMTTYPE=image/jpeg:https://www.infotegueste.com/wp-content/uploads/2022/03/277729256_4965349536874328_7466302704750135828_n.jpg
END:VEVENT
BEGIN:VEVENT
DTSTART;TZID=UTC:20220327T080000
DTEND;TZID=UTC:20220327T140000
DTSTAMP:20260423T205918
CREATED:20220331T164942Z
LAST-MODIFIED:20220331T164942Z
UID:32757-1648368000-1648389600@www.infotegueste.com
SUMMARY:FlorArte
DESCRIPTION:
URL:https://www.infotegueste.com/evento/florarte/
LOCATION:Tenerife
CATEGORIES:Exposición
ATTACH;FMTTYPE=image/jpeg:https://www.infotegueste.com/wp-content/uploads/2022/03/277302297_4949264515149497_8071646431383603264_n.jpg
END:VEVENT
BEGIN:VEVENT
DTSTART;TZID=Europe/Madrid:20220318T203000
DTEND;TZID=Europe/Madrid:20220318T220000
DTSTAMP:20260423T205918
CREATED:20220303T155009Z
LAST-MODIFIED:20220303T155009Z
UID:32606-1647635400-1647640800@www.infotegueste.com
SUMMARY:Teatro: Miguel Mañara
DESCRIPTION:Miguel Mañara nos presenta un drama inmortal\, basado en el personaje histórico que inspiró el mito de Don Juan. Pero Miguel Mañara\, a diferencia de otros donjuanes\, sabe que su deseo es infinito. Y a través de diversos encuentros (don Fernando\, Jerónima\, el Abad) acaba encontrando el amor que cumple su propio deseo de amar. \nReservas de entradas: 922 31 61 36.
URL:https://www.infotegueste.com/evento/teatro-miguel-manara/
LOCATION:Teatro Príncipe Felipe\, C/ El Casino\, 7\, Tegueste\, Santa Cruz de Tenerife\, 38280\, España
CATEGORIES:Teatro
ORGANIZER;CN="Zalatta Teatro":MAILTO:info@zalattateatro.com
END:VEVENT
BEGIN:VEVENT
DTSTART;TZID=Europe/Madrid:20220311T170000
DTEND;TZID=Europe/Madrid:20220327T200000
DTSTAMP:20260423T205918
CREATED:20220226T193042Z
LAST-MODIFIED:20220226T193042Z
UID:32580-1647018000-1648411200@www.infotegueste.com
SUMMARY:Exposición: Nidus
DESCRIPTION:
URL:https://www.infotegueste.com/evento/exposicion-nidus/
LOCATION:Casa Prebendado Pacheco\, Plaza de San Marcos\, 20\, Tegueste\, SANTA CRUZ DE TENERIFE\, 38280\, España
CATEGORIES:Exposición
ATTACH;FMTTYPE=image/jpeg:https://www.infotegueste.com/wp-content/uploads/2022/02/NidusExpoc.jpg
END:VEVENT
BEGIN:VEVENT
DTSTART;TZID=Europe/Madrid:20220309T090000
DTEND;TZID=Europe/Madrid:20220309T140000
DTSTAMP:20260423T205918
CREATED:20220303T155522Z
LAST-MODIFIED:20220303T155522Z
UID:32613-1646816400-1646834400@www.infotegueste.com
SUMMARY:Proyecto Agroactívate III: Taller Realización de Semilleros
DESCRIPTION:El objetivo del Proyecto Agroactívate III es la realización de acciones formativas\, actividades prácticas y participativas destinadas principalmente a las personas mayores de 50 años\, residentes en las áreas rurales y aquellas personas encargadas de su cuidado. Las actividades buscan fomentar el envejecimiento activo y el uso creativo del tiempo libre. \nLugar: Espacio El Barco. \nPlazas limitadas. \nOrganizado por Coag Canarias y financiado por el Gobierno de Canarias\, con la colaboración del Ayto. de Tegueste. \nInscríbete: 922 299 655 o 621 029 851. \nMás información: areasocialcoagtf@yahoo.es
URL:https://www.infotegueste.com/evento/proyecto-agroactivate-iii-taller-realizacion-de-semilleros/
LOCATION:Tenerife
CATEGORIES:Taller
ATTACH;FMTTYPE=image/png:https://www.infotegueste.com/wp-content/uploads/2022/03/COAG-Canarias-Agroactivate-III-566x800-1.png
END:VEVENT
BEGIN:VEVENT
DTSTART;TZID=Europe/Madrid:20220309T080000
DTEND;TZID=Europe/Madrid:20220310T170000
DTSTAMP:20260423T205918
CREATED:20220226T193253Z
LAST-MODIFIED:20220226T193253Z
UID:32586-1646812800-1646931600@www.infotegueste.com
SUMMARY:XVI Sardina de la Inclusión
DESCRIPTION:
URL:https://www.infotegueste.com/evento/xvi-sardina-de-la-inclusion/
LOCATION:Plaza de San Marcos. Tegueste\, Plaza de san Marcos\, Tegueste\, Tenerife\, 38280\, España
CATEGORIES:Variedades
ATTACH;FMTTYPE=image/jpeg:https://www.infotegueste.com/wp-content/uploads/2022/02/CartelsardinaInclsuionFeb22.jpg
END:VEVENT
BEGIN:VEVENT
DTSTART;TZID=Europe/Madrid:20220307T090000
DTEND;TZID=Europe/Madrid:20220308T233000
DTSTAMP:20260423T205918
CREATED:20220303T155319Z
LAST-MODIFIED:20220303T155319Z
UID:32610-1646643600-1646782200@www.infotegueste.com
SUMMARY:Proyecto Agroactívate III: Taller Arte Floral
DESCRIPTION:El objetivo del Proyecto Agroactívate III es la realización de acciones formativas\, actividades prácticas y participativas destinadas principalmente a las personas mayores de 50 años\, residentes en las áreas rurales y aquellas personas encargadas de su cuidado. Las actividades buscan fomentar el envejecimiento activo y el uso creativo del tiempo libre. \nLugar: Espacio El Barco. \nOrganizado por Coag Canarias y financiado por el Gobierno de Canarias\, con la colaboración del Ayto. de Tegueste. \nInscríbete: 922 299 655 o 621 029 851. \nMás información: areasocialcoagtf@yahoo.es
URL:https://www.infotegueste.com/evento/proyecto-agroactivate-iii-taller-arte-floral/
LOCATION:Tenerife
CATEGORIES:Taller
ATTACH;FMTTYPE=image/png:https://www.infotegueste.com/wp-content/uploads/2022/03/COAG-Canarias-Agroactivate-III-1-566x800-1.png
END:VEVENT
BEGIN:VEVENT
DTSTART;TZID=Europe/Madrid:20220226T203000
DTEND;TZID=Europe/Madrid:20220226T223000
DTSTAMP:20260423T205918
CREATED:20220217T175934Z
LAST-MODIFIED:20220217T180306Z
UID:32546-1645907400-1645914600@www.infotegueste.com
SUMMARY:Teatro: Pogüerful
DESCRIPTION:
URL:https://www.infotegueste.com/evento/teatro-poguerful/
LOCATION:Tenerife
CATEGORIES:Teatro
ATTACH;FMTTYPE=image/jpeg:https://www.infotegueste.com/wp-content/uploads/2022/02/273828770_4831259993616617_2866709672005120998_n.jpg
END:VEVENT
BEGIN:VEVENT
DTSTART;TZID=Europe/Madrid:20220226T080000
DTEND;TZID=Europe/Madrid:20220228T220000
DTSTAMP:20260423T205918
CREATED:20220226T193511Z
LAST-MODIFIED:20220226T193511Z
UID:32590-1645862400-1646085600@www.infotegueste.com
SUMMARY:Sorteo Express Carnaval 2022 - Asevite
DESCRIPTION:
URL:https://www.infotegueste.com/evento/sorteo-express-carnaval-2022-asevite/
LOCATION:Tenerife
CATEGORIES:Sorteo
ATTACH;FMTTYPE=image/jpeg:https://www.infotegueste.com/wp-content/uploads/2022/02/274853044_5508471305832944_6386922078258336915_n.jpg
ORGANIZER;CN="ASEVITE":MAILTO:asevite@hotmail.com
END:VEVENT
BEGIN:VEVENT
DTSTART;TZID=Europe/Madrid:20220223T100000
DTEND;TZID=Europe/Madrid:20220223T230000
DTSTAMP:20260423T205918
CREATED:20220217T175545Z
LAST-MODIFIED:20220217T175545Z
UID:32539-1645610400-1645657200@www.infotegueste.com
SUMMARY:Proyecto para mujeres: Somos Cuidados
DESCRIPTION:
URL:https://www.infotegueste.com/evento/proyecto-para-mujeres-somos-cuidados/
LOCATION:Tenerife
CATEGORIES:Community
ATTACH;FMTTYPE=image/png:https://www.infotegueste.com/wp-content/uploads/2022/01/TEGUESTE-whatsapp-800-×-800-px.png
END:VEVENT
BEGIN:VEVENT
DTSTART;TZID=Europe/Madrid:20220220T120000
DTEND;TZID=Europe/Madrid:20220220T130000
DTSTAMP:20260423T205918
CREATED:20220217T175435Z
LAST-MODIFIED:20220217T175435Z
UID:32536-1645358400-1645362000@www.infotegueste.com
SUMMARY:Musical: Librería de Fantasías
DESCRIPTION:
URL:https://www.infotegueste.com/evento/musical-libreria-de-fantasias/
LOCATION:Tenerife
CATEGORIES:Teatro
ATTACH;FMTTYPE=image/jpeg:https://www.infotegueste.com/wp-content/uploads/2022/02/274135292_4846435688765714_2733255532292440727_n.jpg
END:VEVENT
BEGIN:VEVENT
DTSTART;TZID=Europe/Madrid:20220219T080000
DTEND;TZID=Europe/Madrid:20220219T220000
DTSTAMP:20260423T205918
CREATED:20220217T175122Z
LAST-MODIFIED:20220217T175122Z
UID:32529-1645257600-1645308000@www.infotegueste.com
SUMMARY:Taller: Poda de viña
DESCRIPTION:
URL:https://www.infotegueste.com/evento/taller-poda-de-vina-2/
LOCATION:Tenerife
ATTACH;FMTTYPE=image/jpeg:https://www.infotegueste.com/wp-content/uploads/2022/02/TallerPodaVinaFeb22.jpg
END:VEVENT
BEGIN:VEVENT
DTSTART;TZID=Europe/Madrid:20220218T203000
DTEND;TZID=Europe/Madrid:20220218T220000
DTSTAMP:20260423T205918
CREATED:20220217T175253Z
LAST-MODIFIED:20220217T175253Z
UID:32533-1645216200-1645221600@www.infotegueste.com
SUMMARY:Teatro humor: Una nueva anormalidad
DESCRIPTION:
URL:https://www.infotegueste.com/evento/teatro-humor-una-nueva-anormalidad/
LOCATION:Tenerife
ATTACH;FMTTYPE=image/png:https://www.infotegueste.com/wp-content/uploads/2022/02/273413339_1999587000214118_7911781193650873568_n.png
END:VEVENT
BEGIN:VEVENT
DTSTART;TZID=Europe/Madrid:20211125T173000
DTEND;TZID=Europe/Madrid:20211125T190000
DTSTAMP:20260423T205918
CREATED:20211104T190520Z
LAST-MODIFIED:20211104T190520Z
UID:32163-1637861400-1637866800@www.infotegueste.com
SUMMARY:Sesiones divulgativa
DESCRIPTION:
URL:https://www.infotegueste.com/evento/sesiones-divulgativa-2/
LOCATION:Tenerife
ATTACH;FMTTYPE=image/png:https://www.infotegueste.com/wp-content/uploads/2021/11/252605509_4560692843991899_4109633398272869943_n.png
END:VEVENT
BEGIN:VEVENT
DTSTART;TZID=Europe/Madrid:20211121T090000
DTEND;TZID=Europe/Madrid:20211121T120000
DTSTAMP:20260423T205918
CREATED:20211120T184217Z
LAST-MODIFIED:20211120T184715Z
UID:32252-1637485200-1637496000@www.infotegueste.com
SUMMARY:Juegos Motores Canarios en la Finca de los Zamorano
DESCRIPTION:Mañana domingo 21 de noviembre se celebrará un encuentro de juegos y deportes tradicionales. Se celebrará la actividad en La Finca Los Zamorano. \nDurante el desarrollo de la jornada\, los niños y las niñas practicarán cinco modalidades de juegos y/o deportes tradicionales canarios adaptados a los usuarios y las usuarias (Salto del pastor\, juego del palo\, garrote\, billarda de Gran Canaria…). \nLas jornadas están enfocadas a realizar una actividad física moderada\, con carácter lúdico. En caso de padecer algún problema de salud\, los/as participantes deberán comunicarlo oportunamente en el momento del registro. Las personas inscritas deben llevar una ropa y calzado deportivo. \nLa jornada se desarrollará según el programa siguiente:\n09:30 Registro y distribución de las personas participantes.\n10:00 Inicio de los talleres (5 rotaciones).\n12:00 Finalización de la jornada. \nSe ruega puntualidad\, con el fin de respetar la planificación de la actividad. \nInscripciones
URL:https://www.infotegueste.com/evento/juegos-motores-canarios-en-la-finca-de-los-zamorano/
LOCATION:Finca Los Zamorano\, Tegueste\, tegueste\, Santa Cruz de Tenerife\, 38280\, España
CATEGORIES:Deportes
ATTACH;FMTTYPE=image/jpeg:https://www.infotegueste.com/wp-content/uploads/2021/11/marca_dxt_tenerife_color_positivo.jpg
END:VEVENT
BEGIN:VEVENT
DTSTART;VALUE=DATE:20211112
DTEND;VALUE=DATE:20211115
DTSTAMP:20260423T205918
CREATED:20211104T191336Z
LAST-MODIFIED:20211104T191336Z
UID:32179-1636675200-1636934399@www.infotegueste.com
SUMMARY:Exposición itinerante de fotografía
DESCRIPTION:Exposición de fotografías en homenaje al Día internacional de la mujer rural\, la muestra está ubicada en la calle\, hace un recorrido a través del tiempo donde se destaca las labores agrícolas y ganaderas del municipio\, así como su contribución al desarrollo rural.
URL:https://www.infotegueste.com/evento/exposicion-itinerante-de-fotografia-2/
LOCATION:Plaza El Portezuelo\, El Portezuelo\, Tegueste
ATTACH;FMTTYPE=image/jpeg:https://www.infotegueste.com/wp-content/uploads/2021/11/MuestraCampesinaMujer21.jpg
END:VEVENT
BEGIN:VEVENT
DTSTART;TZID=Europe/Madrid:20211111T070000
DTEND;TZID=Europe/Madrid:20211111T203000
DTSTAMP:20260423T205918
CREATED:20211104T190712Z
LAST-MODIFIED:20211104T190729Z
UID:32166-1636614000-1636662600@www.infotegueste.com
SUMMARY:Encuentro literario
DESCRIPTION:
URL:https://www.infotegueste.com/evento/encuentro-literario/
LOCATION:Tenerife
CATEGORIES:Encuentro
ATTACH;FMTTYPE=image/jpeg:https://www.infotegueste.com/wp-content/uploads/2021/11/Brandan21.jpg
END:VEVENT
BEGIN:VEVENT
DTSTART;TZID=Europe/Madrid:20211109T173000
DTEND;TZID=Europe/Madrid:20211109T190000
DTSTAMP:20260423T205918
CREATED:20211104T190400Z
LAST-MODIFIED:20211104T190400Z
UID:32161-1636479000-1636484400@www.infotegueste.com
SUMMARY:Sesiones divulgativa
DESCRIPTION:
URL:https://www.infotegueste.com/evento/sesiones-divulgativa/
LOCATION:Tenerife
CATEGORIES:Charla
ATTACH;FMTTYPE=image/png:https://www.infotegueste.com/wp-content/uploads/2021/11/252605509_4560692843991899_4109633398272869943_n.png
END:VEVENT
BEGIN:VEVENT
DTSTART;VALUE=DATE:20211105
DTEND;VALUE=DATE:20211108
DTSTAMP:20260423T205918
CREATED:20211104T191210Z
LAST-MODIFIED:20211104T191210Z
UID:32176-1636070400-1636329599@www.infotegueste.com
SUMMARY:Exposición itinerante de fotografía
DESCRIPTION:Exposición de fotografías en homenaje al Día internacional de la mujer rural\, la muestra está ubicada en la calle\, hace un recorrido a través del tiempo donde se destaca las labores agrícolas y ganaderas del municipio\, así como su contribución al desarrollo rural. \n 
URL:https://www.infotegueste.com/evento/exposicion-itinerante-de-fotografia/
LOCATION:explanada El Socorro\, Calle Parroco Jose Rodriguez\, 1\,\, Tegueste\, 38292\, España
ATTACH;FMTTYPE=image/jpeg:https://www.infotegueste.com/wp-content/uploads/2021/11/MuestraCampesinaMujer21.jpg
END:VEVENT
BEGIN:VEVENT
DTSTART;TZID=Europe/Madrid:20211104T100000
DTEND;TZID=Europe/Madrid:20211128T200000
DTSTAMP:20260423T205918
CREATED:20211104T190935Z
LAST-MODIFIED:20211104T190935Z
UID:32171-1636020000-1638129600@www.infotegueste.com
SUMMARY:Jornadas: La Indumentaria Tradicional a través de la visión del Prebendado
DESCRIPTION:
URL:https://www.infotegueste.com/evento/jornadas-la-indumentaria-tradicional-a-traves-de-la-vision-del-prebendado/
LOCATION:Tenerife
ATTACH;FMTTYPE=image/jpeg:https://www.infotegueste.com/wp-content/uploads/2021/11/250627888_1924222607750558_4439297202418570562_n-1.jpg
END:VEVENT
BEGIN:VEVENT
DTSTART;TZID=Europe/Madrid:20211029T203000
DTEND;TZID=Europe/Madrid:20211029T220000
DTSTAMP:20260423T205918
CREATED:20211104T191734Z
LAST-MODIFIED:20211104T191734Z
UID:32184-1635539400-1635544800@www.infotegueste.com
SUMMARY:Teatro: Antígona D.F.
DESCRIPTION:
URL:https://www.infotegueste.com/evento/teatro-antigona-d-f/
LOCATION:Teatro Príncipe Felipe\, C/ El Casino\, 7\, Tegueste\, Santa Cruz de Tenerife\, 38280\, España
CATEGORIES:Teatro
ATTACH;FMTTYPE=image/jpeg:https://www.infotegueste.com/wp-content/uploads/2021/11/242779748_4347439535332001_7241596513909502324_n.jpg
END:VEVENT
BEGIN:VEVENT
DTSTART;VALUE=DATE:20211029
DTEND;VALUE=DATE:20211103
DTSTAMP:20260423T205918
CREATED:20211104T191553Z
LAST-MODIFIED:20211104T191553Z
UID:32181-1635465600-1635897599@www.infotegueste.com
SUMMARY:Tegueste Biofest 2021
DESCRIPTION:Tegueste Biofest. Un festival de naturaleza\, senderismo\, gastronomía y ruralidad sin límites. Será del 29 de octubre al 2 de noviembre en Tegueste y parte de la Reserva de la Biosfera de Anaga. \nRutas de senderismo por la Reserva de la Biosfera de Anaga\, catas maridadas de producto local en el Mercadillo del Agricultor\, rutas arqueológicas por el entorno del Barranco de Agua de Dios\, talleres de fotografía macro\, master class de artesanía impartidas por maestros locales\, rutas de agroturismo por Tegueste\, etc. Son sólo algunas de las propuestas recogidas en el programa del Tegueste Biofest. \nVIE-01. SENDEROS DE LA BIOSFERA: LA LAGUNA – TEGUESTE (Por Las Peñuelas) con cata de vinos locales en el lagar de la Casa de los Zamorano. \nSAB-03. SENDEROS DE LA BIOSFERA: Tegueste – Punta del Hidalgo (Por Homicián) con degustación de productos locales de la Reserva de la Biosfera de Anaga\, actividad ambiental y suelta de pardelas en Punta del Hidalgo. \nSAB-04. SABOREA LA BIOSFERA: Catas maridadas de producto (mieles\, zumos naturales\, quesos y vinos) en el Mercadillo del Agricultor de Tegueste. Una actividad disponible el domingo a la misma hora: DOM-03. \nDOM-01. SENDEROS DE LA BIOSFERA: Tegueste – Afur (Por Las Carboneras)* con demostración de alfarería tradicional en Afur. \nDOM-02. SENDEROS DE LA BIOSFERA: Tegueste – Punta del Hidalgo (por Chinamada)* con actividad de Hatha Yoga a la llegada para estirar los grupos musculares más agotados tras la caminata. \nDOM-04. MASTER CLASS de Artesanía Local con alfarería tradicional\, cestería\, jabonería artesanal y macramé. \n  \nLUN-01. SENDEROS DE LA BIOSFERA: Circular Afur – Taganana con demostración de salto del pastor y degustación de vinos locales. \nLUN-02. SENDEROS DE LA BIOSFERA: Cruz del Carmen – Tegueste con cata de vinos locales en el lagar de la Casa de los Zamorano. \n  \n*Rutas muy exigentes.
URL:https://www.infotegueste.com/evento/tegueste-biofest-2021/
LOCATION:Tenerife
ATTACH;FMTTYPE=image/jpeg:https://www.infotegueste.com/wp-content/uploads/2021/10/243484679_23849252687100163_3297786306883214505_n.jpg
END:VEVENT
BEGIN:VEVENT
DTSTART;TZID=Europe/Madrid:20210919T193000
DTEND;TZID=Europe/Madrid:20210919T210000
DTSTAMP:20260423T205918
CREATED:20210831T104418Z
LAST-MODIFIED:20210831T104418Z
UID:31900-1632079800-1632085200@www.infotegueste.com
SUMMARY:Muestra Escénica Iberoamericana: Tesla/Edison
DESCRIPTION:La Muestra Escénica Iberoamericana (MEI) programa Tesla/Edison\, la última apuesta de la compañía canaria Ángulo Producciones\, en Tegueste. \nTesla/Edison es una obra de teatro escrita por los hermanos QY Bazo\, que llega a la compañía tras ganar el prestigioso premio Jesús Domínguez. Se trata de una obra de gran valor documental y cultural al centrarse en la vida de dos genios que vivieron la ciencia y la tecnología de una manera muy diferente pero que lograron avances históricos que hoy podemos disfrutar. \nReserva entradas: 922 316 136 \n 
URL:https://www.infotegueste.com/evento/muestra-escenica-iberoamericana-tesla-edison/
LOCATION:Teatro Príncipe Felipe\, C/ El Casino\, 7\, Tegueste\, Santa Cruz de Tenerife\, 38280\, España
CATEGORIES:Teatro
ATTACH;FMTTYPE=image/jpeg:https://www.infotegueste.com/wp-content/uploads/2021/08/unnamed.jpg
END:VEVENT
BEGIN:VEVENT
DTSTART;TZID=Europe/Madrid:20210917T180000
DTEND;TZID=Europe/Madrid:20210917T190000
DTSTAMP:20260423T205918
CREATED:20210831T103657Z
LAST-MODIFIED:20210831T103715Z
UID:31897-1631901600-1631905200@www.infotegueste.com
SUMMARY:Tarzán\, soy igual a ti
DESCRIPTION:Escrita por Leonardo Abreu y dirigida por Chris River\, cuenta con las actuaciones de Giampiero Di Bello\, Mayra Alejandra Goncalves\, Elizabeth Morales\, Aldo Tejera\, Verónica Núñez\, Dorian Pérez y los propios Abreu y River. \nEsta clásica historia se va desarrollando dejando un mensaje de fraternidad\, seguridad\, valor por la familia\, y sobre todo aprender a aceptar a todo aquel que sea distinto.
URL:https://www.infotegueste.com/evento/tarzan-soy-igual-a-ti-2/
LOCATION:Teatro Príncipe Felipe\, C/ El Casino\, 7\, Tegueste\, Santa Cruz de Tenerife\, 38280\, España
CATEGORIES:Teatro
ATTACH;FMTTYPE=image/jpeg:https://www.infotegueste.com/wp-content/uploads/2021/08/CARTEL-TARZAN-A3-tomaticket.jpg
END:VEVENT
BEGIN:VEVENT
DTSTART;TZID=Europe/Madrid:20210917T180000
DTEND;TZID=Europe/Madrid:20210917T190000
DTSTAMP:20260423T205918
CREATED:20210722T123146Z
LAST-MODIFIED:20210722T123146Z
UID:31761-1631901600-1631905200@www.infotegueste.com
SUMMARY:Tarzán\, soy igual a ti
DESCRIPTION:Esta clásica historia se va desarrollando dejando un mensaje de fraternidad\, seguridad\, valor por la familia\, y sobre todo aprender a aceptar a todo aquel que sea distinto. \n 
URL:https://www.infotegueste.com/evento/tarzan-soy-igual-a-ti/
LOCATION:Teatro Príncipe Felipe\, C/ El Casino\, 7\, Tegueste\, Santa Cruz de Tenerife\, 38280\, España
CATEGORIES:Teatro
ATTACH;FMTTYPE=image/jpeg:https://www.infotegueste.com/wp-content/uploads/2021/07/2768153.jpeg
END:VEVENT
BEGIN:VEVENT
DTSTART;TZID=Europe/Madrid:20210914T193000
DTEND;TZID=Europe/Madrid:20210914T210000
DTSTAMP:20260423T205918
CREATED:20210831T103230Z
LAST-MODIFIED:20210831T103230Z
UID:31895-1631647800-1631653200@www.infotegueste.com
SUMMARY:Muestra Escénica Iberoamericana: De ratones y hombres
DESCRIPTION:La Muestra Escénica Iberoamericana (MEI) programa De ratones y hombres\, de la compañía colombiana Señor M\, conocidos como 4 Paredes por el lugar en el que actúan en su país. \nBasada en una historia de John Steinbeck esta obra comienza con dos hermanos\, campesinos colombianos\, que viajan por distintas regiones buscándose la vida. Uno es inteligente y\, el otro\, no. Uno depende del otro hasta que uno de los dos se convierte en una carga peligrosa. \nReserva entradas: 922 316 136 \nCía.: Señor M (4 Paredes) – Colombia \n 
URL:https://www.infotegueste.com/evento/muestra-escenica-iberoamericana-de-ratones-y-hombres/
LOCATION:Teatro Príncipe Felipe\, C/ El Casino\, 7\, Tegueste\, Santa Cruz de Tenerife\, 38280\, España
CATEGORIES:Teatro
ATTACH;FMTTYPE=image/jpeg:https://www.infotegueste.com/wp-content/uploads/2021/08/DeRatonesHombres21.jpg
END:VEVENT
BEGIN:VEVENT
DTSTART;TZID=Europe/Madrid:20210903T210000
DTEND;TZID=Europe/Madrid:20210905T223000
DTSTAMP:20260423T205918
CREATED:20210831T102036Z
LAST-MODIFIED:20210831T102036Z
UID:31888-1630702800-1630881000@www.infotegueste.com
SUMMARY:Cine de Verano
DESCRIPTION:Viernes 3 de septiembre\, 21:00h\, Plaza de San Marcos: Alicia en el país de las Maravillas \nSábado 4 de septiembre\, 21:00h\, Plaza de San Marcos: Pequeña Miss Sunshine \nDomingo 5 de septiembre\, 21:00h\, Plaza de San Marcos: Ma Famille et le Loup. VO subtitulada \nEntrada gratuita. Aforo limitado
URL:https://www.infotegueste.com/evento/cine-de-verano/
LOCATION:Plaza de San Marcos. Tegueste\, Plaza de san Marcos\, Tegueste\, Tenerife\, 38280\, España
CATEGORIES:Cine
ATTACH;FMTTYPE=image/jpeg:https://www.infotegueste.com/wp-content/uploads/2021/08/240725636_1878518588987627_7085155115056911724_n.jpg
ORGANIZER;CN="Ayuntamiento de Tegueste":MAILTO:ayuntamiento@tegueste.org
END:VEVENT
BEGIN:VEVENT
DTSTART;TZID=Europe/Madrid:20210901T080000
DTEND;TZID=Europe/Madrid:20210912T170000
DTSTAMP:20260423T205918
CREATED:20210831T102356Z
LAST-MODIFIED:20210831T102356Z
UID:31893-1630483200-1631466000@www.infotegueste.com
SUMMARY:Fiesta Virgen de Los Remedios
DESCRIPTION:
URL:https://www.infotegueste.com/evento/fiesta-virgen-de-los-remedios/
LOCATION:Tenerife
CATEGORIES:Variedades
ATTACH;FMTTYPE=image/jpeg:https://www.infotegueste.com/wp-content/uploads/2021/08/Programafiestasremedios21-scaled.jpg
ORGANIZER;CN="Ayuntamiento de Tegueste":MAILTO:ayuntamiento@tegueste.org
END:VEVENT
END:VCALENDAR